BEGIN:VCALENDAR
VERSION:2.0
PRODID:icalendar-ruby
CALSCALE:GREGORIAN
METHOD:PUBLISH
BEGIN:VEVENT
DTSTAMP:20260425T035031Z
UID:5-1375219@faithdiscovery.com
DTSTART:20261101T150000Z
DTEND:20261101T161500Z
CLASS:PUBLIC
CREATED:20260424T205233
DESCRIPTION:
LAST-MODIFIED:20260424T205233
LOCATION:FDC Worship Center
SUMMARY:Worship Service
URL;VALUE=URI:https://www.faithdiscovery.com/events/worship-service--5/2026
 -11-01
ATTACH;FILENAME=sing.jpg;FMTTYPE=image/jpeg:https://dq5pwpg1q8ru0.cloudfron
 t.net/2022/09/24/03/44/40/fd69460c-b5b6-4de7-9892-af0128522019/sing.jpg
END:VEVENT
END:VCALENDAR
