BEGIN:VCALENDAR
VERSION:2.0
PRODID:icalendar-ruby
CALSCALE:GREGORIAN
METHOD:PUBLISH
BEGIN:VEVENT
DTSTAMP:20260424T132732Z
UID:5-1371606@faithdiscovery.com
DTSTART:20260906T140000Z
DTEND:20260906T151500Z
CLASS:PUBLIC
CREATED:20260424T064528
DESCRIPTION:
LAST-MODIFIED:20260424T064528
LOCATION:FDC Worship Center
SUMMARY:Worship Service
URL;VALUE=URI:https://www.faithdiscovery.com/events/worship-service--5/2026
 -09-06
ATTACH;FILENAME=sing.jpg;FMTTYPE=image/jpeg:https://dq5pwpg1q8ru0.cloudfron
 t.net/2022/09/24/03/44/40/fd69460c-b5b6-4de7-9892-af0128522019/sing.jpg
END:VEVENT
END:VCALENDAR
